BEGIN:VCALENDAR
VERSION:2.0
PRODID:-//https://yeswiki.pro///YesWiki doryphore 4.6.1//EN
SOURCE:https://yeswiki.pro/api/forms/2/entries/ical
BEGIN:VEVENT
UID:https://yeswiki.pro/IGotMarriedButWeHaventToldOurInLawsY
URL:https://yeswiki.pro/IGotMarriedButWeHaventToldOurInLawsY
DTSTAMP:20260422T114019Z
DTSTART:20220815T220000Z
DTEND:20220816T220000Z
CREATED:20250816T032600Z
DATE-MOD:20250816T032600Z
SUMMARY:I got married but we haven’t told our in-laws yet. How should we
 approach this?
NAME:I got married but we haven’t told our in-laws yet. How should we 
 approach this?
DESCRIPTION:Dear Kate,\n\nI married my husband February 29th in a very 
 small ceremony. It was just our parents and siblings and very impromptu. 
 We’re happily married except for one issue — my husband has yet to 
 break the news to his paternal grandparents. My whole family learned 
 through Facebook and phone calls. My husband doesn’t have a relationship
 with his father but he lived with his grandparents for a year while in 
 school! I have no idea what the appropriate way to break the news to his 
 side of the family without giving them heart attacks, hurting feelings, 
 and ruining relationships.\n\nSigned,\nLiving in Guilt\n\nSponsored 
 Ads\nLooking For Women For Marriage? Try Loveawake Free Dating 
 Site:\nGuatemala Women Near You For Marriage 
 (https://www.loveawake.com/free-online-dating/Guatemala-dating-service.htm
 l?gender=female&amp;page=61)&lt;br&gt;\nFind 
 Bosnia And Herzegovina Ladies For Marriage 
 (https://www.loveawake.com/free-online-dating/Bosnia-And-Herzegovina-datin
 g-service.html?gender=female&amp;page=61)&lt;br&gt;\nChinese 
 Mail Order Brides 
 (https://www.loveawake.com/free-online-dating/China-dating-service.html?ge
 nder=female&amp;page=61)&lt;br&gt;\nFind 
 Mexico Girls For Marriage 
 (https://www.loveawake.com/free-online-dating/Mexico-dating-service.html?g
 ender=female&amp;page=61)&lt;br&gt;\nJapanese 
 Girls Free Marriage Site 
 (https://www.loveawake.com/free-online-dating/Japan-dating-service.html?ge
 nder=female&amp;page=61)\nDear 
 Living in Guilt;\n\nCongratulations on your nuptials and sorry to hear 
 that there is absolutely anything putting a damper on your happiness 
 during your first year as a married couple.\nMy answer to this one is 
 simple and blunt:\n\nJust tell the truth.\n\nHonesty Dog\n\nBut not just 
 that you got married. The truths are this:\n\n\nIt was impromptu\nIt was a
 very small ceremony\nThat you feel sad about them not being there\nThat 
 you care about them very much and that you haven’t told them because the
 idea of hurting their feelings was difficult for you.\nIn my opinion, 
 truth means relating to people on a human level and explaining things in a
 way that they can understand and feel sympathetic towards.\n\nEveryone 
 makes mistakes, and hindsight is 20/20 with a magnifying glass.\n\nIt is 
 impossible to go back and change what has already happened, but you can 
 make right what will happen from here forward.\n\nThough I think the 
 question that begs for an answer is why you are the one left to clean this
 up, and what role is your husband playing in fixing this? Obviously, now 
 that you are family, you have to share these responsibilities — but this
 seems to be more of his issue than yours.\n\nWhat was his reason for not 
 telling them to begin with? Was it simply an oversight or was there more 
 to it than that? I think maybe this is something to consider. If he 
 doesn’t feel close enough to them to invite them to something like this,
 maybe they understand and feel the same way.\n\nI think it’s worth 
 having this conversation with your hubby and asking him why he avoided 
 telling them.\n\nAs the new addition to the family, you can do better in 
 the future. Be proactive by including his grandparents in your lives as 
 much as possible now. If you two are considering having kids of your own, 
 make sure that they are included in all that comes along with that.\n\nLet
 them know that even though they might not have been present for your 
 spontaneous nuptials, that you fully intend to include them in the rest of
 your lives together and are grateful and excited to have them along for 
 the journey.\n\nThey might not understand right away and they might even 
 be really mad — but family is love, and love is forgiveness, so if you 
 and your fella are honest and kind, they will eventually get over this 
 small bump in the road and I trust it will be clear roads ahead for you 
 and your new family.\n\nIn-Laws Baby Skunk\n\nAren’t in-laws the 
 best?\n\n:)\n\nKate \nSource: 
 https://yeswiki.pro/IGotMarriedButWeHaventToldOurInLawsY
END:VEVENT
BEGIN:VEVENT
UID:https://yeswiki.pro/TesT2
URL:https://yeswiki.pro/TesT2
DTSTAMP:20260422T114019Z
DTSTART:20230530T160000Z
DTEND:20230530T170000Z
CREATED:20210524T205403Z
DATE-MOD:20210621T172914Z
SUMMARY:Sortie Culturelle
NAME:Sortie Culturelle
DESCRIPTION:La culture, moins on en a, plus on l'étale! \nSource: 
 https://yeswiki.pro/TesT2
LOCATION:Avenue des Champs Elysées 75000 Paris
IMAGE;VALUE=URI;DISPLAY=BADGE:https://yeswiki.pro/files/TesT2_presence-pho
 to.png
ATTACH:https://yeswiki.pro/files/TesT2_presence-photo.png
END:VEVENT
BEGIN:VEVENT
UID:https://yeswiki.pro/YeswikidaY
URL:https://yeswiki.pro/YeswikidaY
DTSTAMP:20260422T114019Z
DTSTART:20200430T070000Z
DTEND:20200430T140000Z
CREATED:20200212T102149Z
DATE-MOD:20210806T083429Z
SUMMARY:Yeswikiday
NAME:Yeswikiday
DESCRIPTION:Une journée pour faire avancer le projet Yeswiki dans la 
 bonne humeur \nSource: https://yeswiki.pro/YeswikidaY
LOCATION:7700 Mouscron
IMAGE;VALUE=URI;DISPLAY=BADGE:https://yeswiki.pro/files/YeswikidaY_yeswiki
 -logo.png
ATTACH:https://yeswiki.pro/files/YeswikidaY_yeswiki-logo.png
END:VEVENT
BEGIN:VEVENT
UID:https://yeswiki.pro/YoupiIciCEstLeTitre
URL:https://yeswiki.pro/YoupiIciCEstLeTitre
DTSTAMP:20260422T114019Z
DTSTART:20200107T230000Z
DTEND:20200110T230000Z
CREATED:20200124T084252Z
DATE-MOD:20210621T173356Z
SUMMARY:Youpi ici c'est le titre
NAME:Youpi ici c'est le titre
DESCRIPTION:Un événement autour du vin, c'est pour cela qu'il est à 
 Bordeaux... \nSource: https://yeswiki.pro/YoupiIciCEstLeTitre
LOCATION:Bordeaux
END:VEVENT
END:VCALENDAR
